BEGIN:VCALENDAR
VERSION:2.0
PRODID:-//ChamberMaster//Event Calendar 2.0//EN
METHOD:PUBLISH
X-PUBLISHED-TTL:P3D
REFRESH-INTERVAL:P3D
CALSCALE:GREGORIAN
BEGIN:VEVENT
DTSTART:20091016T050000Z
DTEND:20091016T050000Z
X-MICROSOFT-CDO-ALLDAYEVENT:FALSE
SUMMARY:Gibby's Wine Den ~ Uncorked Fall Wine Tasting Series\, Fligh
DESCRIPTION:You won't want to miss Gibby's Fall Wine Tasting Series.  Each Flight will present the opportunity to taste at least 24 wines and the chance to interact one on one with the distributors and enjoy thesearch for the wines you love.  Attend one or all three Flights - a great variety of wines for you to sample. \n\nAdmission to each Flight is $10 and significant incentive discount purchasing information will be available.  Make sure to submit a raffle ticket at each Flight  for attending.  The drawing will be at the conclusion of Flight III\, winner need not be present to win.  No reservations arerequired.  Join us for the fun of trying new wines and discovering some new favorites!\n\nMark yourcalendars for Flight II:  Friday\, November 6 and Flight III:  Friday\, November 20.
X-ALT-DESC;FMTTYPE=text/html:You won't want to miss Gibby's Fall Wine Tasting Series.  Each Flight will present the opportunity to taste at least 24 wines and the chance to interact one on one with the distributors and enjoy thesearch for the wines you love.  Attend one or all three Flights - a great variety of wines for you to sample. \n\nAdmission to each Flight is $10 and significant incentive discount purchasing information will be available.  Make sure to submit a raffle ticket at each Flight  for attending.  The drawing will be at the conclusion of Flight III\, winner need not be present to win.  No reservations arerequired.  Join us for the fun of trying new wines and discovering some new favorites!\n\nMark yourcalendars for Flight II:  Friday\, November 6 and Flight III:  Friday\, November 20.\n
LOCATION:Gibby's Wine Den
UID:e.1902.1023
SEQUENCE:3
DTSTAMP:20260421T011307Z
URL:https://business.bataviachamber.org/events/details/gibby-s-wine-den-uncorked-fall-wine-tasting-series-fligh-10-16-2009-1023
END:VEVENT

END:VCALENDAR
