BEGIN:VCALENDAR
VERSION:2.0
PRODID:-//ChamberMaster//Event Calendar 2.0//EN
METHOD:PUBLISH
X-PUBLISHED-TTL:P3D
REFRESH-INTERVAL:P3D
CALSCALE:GREGORIAN
BEGIN:VEVENT
DTSTART:20110527T050000Z
DTEND:20110527T050000Z
X-MICROSOFT-CDO-ALLDAYEVENT:FALSE
SUMMARY:Gibby's Wine Den ~ Twilight Tasting Series\, Tasting VII
DESCRIPTION:Join us around our bar for an opportunity to taste our featured wines this evening. Enjoy sampling and learning about six wines for a nominal tasting fee of $2. Taste something new or find a favoritewhile listening to live entertainment from our Fridays@5 performer\, James Schlicher.
X-ALT-DESC;FMTTYPE=text/html:Join us around our bar for an opportunity to taste our featured wines this evening. Enjoy sampling and learning about six wines for a nominal tasting fee of $2. Taste something new or find a favoritewhile listening to live entertainment from our Fridays@5 performer\, James Schlicher.\n\n
LOCATION:Gibby's Wine Den
UID:e.1902.239
SEQUENCE:3
DTSTAMP:20260419T164427Z
URL:https://business.bataviachamber.org/events/details/gibby-s-wine-den-twilight-tasting-series-tasting-vii-05-27-2011-239
END:VEVENT

END:VCALENDAR
