BEGIN:VCALENDAR
VERSION:2.0
PRODID:-//ChamberMaster//Event Calendar 2.0//EN
METHOD:PUBLISH
X-PUBLISHED-TTL:P3D
REFRESH-INTERVAL:P3D
CALSCALE:GREGORIAN
BEGIN:VEVENT
DTSTART:20110513T050000Z
DTEND:20110513T050000Z
X-MICROSOFT-CDO-ALLDAYEVENT:FALSE
SUMMARY:Gibby's Wine Den ~ Twilight Tasting Series\, Tasting VI
DESCRIPTION:Join us around our bar for an opportunity to taste our featured wines this evening. Enjoy sampling and learning about six wines for a nominal tasting fee of $2. Taste something new or find a favorite!\nAnd don't forget that a portion of tonight's bar purchases will be donated to "Alex's Army" as wecontinue our 'Cause There Is A Need program.
X-ALT-DESC;FMTTYPE=text/html:Join us around our bar for an opportunity to taste our featured wines this evening. Enjoy sampling and learning about six wines for a nominal tasting fee of $2. Taste something new or find a favorite!\nAnd don't forget that a portion of tonight's bar purchases will be donated to "Alex's Army" as wecontinue our 'Cause There Is A Need program.\n\n
LOCATION:Gibby's Wine Den
UID:e.1902.231
SEQUENCE:3
DTSTAMP:20260419T180944Z
URL:https://business.bataviachamber.org/events/details/gibby-s-wine-den-twilight-tasting-series-tasting-vi-05-13-2011-231
END:VEVENT

END:VCALENDAR
