BEGIN:VCALENDAR
VERSION:2.0
PRODID:-//ChamberMaster//Event Calendar 2.0//EN
METHOD:PUBLISH
X-PUBLISHED-TTL:P3D
REFRESH-INTERVAL:P3D
CALSCALE:GREGORIAN
BEGIN:VEVENT
DTSTART:20091204T060000Z
DTEND:20091204T060000Z
X-MICROSOFT-CDO-ALLDAYEVENT:FALSE
SUMMARY:Gibby's Wine Den ~ Twilight Tasting & Fridays@5
DESCRIPTION:Meet your friends around the bar at Gibby's tonight for a relaxing end to your busy week! The Wandering Endorphin will provide the musical backdrop as you try a few new wines\, maybe one that will be perfect for your holiday dinner.  Wines by the glass will also be available as well our Tidbits menu.Wander through the aisles to find the perfect gift for the teacher\, the hostess or yourself!  The expert staff at Gibby's is here to help make your holidays easy!
X-ALT-DESC;FMTTYPE=text/html:Meet your friends around the bar at Gibby's tonight for a relaxing end to your busy week! The Wandering Endorphin will provide the musical backdrop as you try a few new wines\, maybe one that will be perfect for your holiday dinner.  Wines by the glass will also be available as well our Tidbits menu.Wander through the aisles to find the perfect gift for the teacher\, the hostess or yourself!  The expert staff at Gibby's is here to help make your holidays easy!\n
LOCATION:Gibby's Wine Den
UID:e.1902.1032
SEQUENCE:3
DTSTAMP:20260424T174820Z
URL:https://business.bataviachamber.org/events/details/gibby-s-wine-den-twilight-tasting-fridays-5-12-04-2009-1032
END:VEVENT

END:VCALENDAR
