BEGIN:VCALENDAR
VERSION:2.0
PRODID:-//ChamberMaster//Event Calendar 2.0//EN
METHOD:PUBLISH
X-PUBLISHED-TTL:P3D
REFRESH-INTERVAL:P3D
CALSCALE:GREGORIAN
BEGIN:VEVENT
DTSTART:20090626T050000Z
DTEND:20090626T050000Z
X-MICROSOFT-CDO-ALLDAYEVENT:FALSE
SUMMARY:Gibby's Wine Den ~ Twilight Tasting & Fridays@5
DESCRIPTION:Come to Gibby's tonight for an extra special treat! Taste some new wines and find a new favorite atour Twilight Tasting. James Schlicher will be our musical entertainment and as always\, delicious wines by the glass and tasty tidbits will be available. Roam through the aisles and tables which are full of great summer decor\, treats and great gift ideas. Going to a summer BBQ or party? Then you'll need a hostess gift! Pick one up tonight and enjoy your Friday at Gibby's.
X-ALT-DESC;FMTTYPE=text/html:Come to Gibby's tonight for an extra special treat! Taste some new wines and find a new favorite atour Twilight Tasting. James Schlicher will be our musical entertainment and as always\, delicious wines by the glass and tasty tidbits will be available. Roam through the aisles and tables which are full of great summer decor\, treats and great gift ideas. Going to a summer BBQ or party? Then you'll need a hostess gift! Pick one up tonight and enjoy your Friday at Gibby's. \n
LOCATION:Gibby's Wine Den
UID:e.1902.962
SEQUENCE:3
DTSTAMP:20260421T090426Z
URL:https://business.bataviachamber.org/events/details/gibby-s-wine-den-twilight-tasting-fridays-5-06-26-2009-962
END:VEVENT

END:VCALENDAR
