BEGIN:VCALENDAR
VERSION:2.0
PRODID:-//ChamberMaster//Event Calendar 2.0//EN
METHOD:PUBLISH
X-PUBLISHED-TTL:P3D
REFRESH-INTERVAL:P3D
CALSCALE:GREGORIAN
BEGIN:VEVENT
DTSTART:20100318T050000Z
DTEND:20100318T050000Z
X-MICROSOFT-CDO-ALLDAYEVENT:FALSE
SUMMARY:Gibby's Wine Den ~ ''Three Daves''\, Author Visit and Book Sig
DESCRIPTION:Join us at Gibby’s Thursday\, March 18\, 7-9 p.m. for a visit with Nicki Elson\,\nauthor of the best selling\, “Three Daves.” Find out why one just wasn’t enough!   Enjoy a wine tasting while hearing fromthe author who will be signing her books. Pre-order books for the event at www.nickielson.com. Please make reservations by contacting Gibby’s at 630-208-6424. No cost to attend the event.\nThree Daves is an angst-ridden romp through a 1980’s college campus with Jennifer Whitney\, a good girl who isdesperately trying to stay that way. Her story is told\nthrough her relationships with three very different guys: David\, Dave and Big D. Which one will be THE one?\nNicki Elson has created a heroine that everyone will cheer for as she comes of age. Whether you lived through the decade and survived the bad hair and acid-wash jeans or just heard the wild stories\, readers will identify with Jen as she searches for “the one\,” enjoying her romantic ups and downs\, made even more entertaining by NickiElson’s amusingly wry sense of humor.
X-ALT-DESC;FMTTYPE=text/html:Join us at Gibby’s Thursday\, March 18\, 7-9 p.m. for a visit with Nicki Elson\,\nauthor of the best selling\, “Three Daves.” Find out why one just wasn’t enough!   Enjoy a wine tasting while hearing fromthe author who will be signing her books. Pre-order books for the event at www.nickielson.com. Please make reservations by contacting Gibby’s at 630-208-6424. No cost to attend the event.\nThree Daves is an angst-ridden romp through a 1980’s college campus with Jennifer Whitney\, a good girl who isdesperately trying to stay that way. Her story is told\nthrough her relationships with three very different guys: David\, Dave and Big D. Which one will be THE one?\nNicki Elson has created a heroine that everyone will cheer for as she comes of age. Whether you lived through the decade and survived the bad hair and acid-wash jeans or just heard the wild stories\, readers will identify with Jen as she searches for “the one\,” enjoying her romantic ups and downs\, made even more entertaining by NickiElson’s amusingly wry sense of humor.\n \n\n
LOCATION:www.gibbys-wine.com
UID:e.1902.1133
SEQUENCE:3
DTSTAMP:20260420T162330Z
URL:https://business.bataviachamber.org/events/details/gibby-s-wine-den-three-daves-author-visit-and-book-sig-03-18-2010-1133
END:VEVENT

END:VCALENDAR
