BEGIN:VCALENDAR
VERSION:2.0
PRODID:-//ChamberMaster//Event Calendar 2.0//EN
METHOD:PUBLISH
X-PUBLISHED-TTL:P3D
REFRESH-INTERVAL:P3D
CALSCALE:GREGORIAN
BEGIN:VEVENT
DTSTART:20110310T060000Z
DTEND:20110310T060000Z
X-MICROSOFT-CDO-ALLDAYEVENT:FALSE
SUMMARY:Gibby's Wine Den ~ Thirsty Thursday
DESCRIPTION:Meet friends at Gibby's Wine Bar this evening for a selection from our by-the-glass menu and enjoy complimentary chips and salsa. A great way to celebrate the end of a long week!
X-ALT-DESC;FMTTYPE=text/html:Meet friends at Gibby's Wine Bar this evening for a selection from our by-the-glass menu and enjoy complimentary chips and salsa. A great way to celebrate the end of a long week!
LOCATION:Gibby's Wine Den
UID:e.1902.169
SEQUENCE:3
DTSTAMP:20260419T212149Z
URL:https://business.bataviachamber.org/events/details/gibby-s-wine-den-thirsty-thursday-03-10-2011-169
END:VEVENT

END:VCALENDAR
