BEGIN:VCALENDAR
VERSION:2.0
PRODID:-//ChamberMaster//Event Calendar 2.0//EN
METHOD:PUBLISH
X-PUBLISHED-TTL:P3D
REFRESH-INTERVAL:P3D
CALSCALE:GREGORIAN
BEGIN:VEVENT
DTSTART:20090930T050000Z
DTEND:20090930T050000Z
X-MICROSOFT-CDO-ALLDAYEVENT:FALSE
SUMMARY:Gibby's Wine Den ~ Taste of Harvest
DESCRIPTION:Shady Hills Garden in Elburn\, will once again provide a dazzling backdrop for an eclectic evening oftaste!  Gibby's will be selecting various products of the harvest and perfectly pairing them with the wines that will enhace the food.  Jason Stoffels\, Enticing Cuising\, will be preparing the menu for this delicious event!  Watch the sun set in the beautiful gardens while enjoying the delectable wines and foods of the fall.\n\nReservations are required\, $35/person.
X-ALT-DESC;FMTTYPE=text/html:Shady Hills Garden in Elburn\, will once again provide a dazzling backdrop for an eclectic evening oftaste!  Gibby's will be selecting various products of the harvest and perfectly pairing them with the wines that will enhace the food.  Jason Stoffels\, Enticing Cuising\, will be preparing the menu for this delicious event!  Watch the sun set in the beautiful gardens while enjoying the delectable wines and foods of the fall.\n\nReservations are required\, $35/person.\n
LOCATION:Gibby's Wine Den
UID:e.1902.1011
SEQUENCE:3
DTSTAMP:20260421T031700Z
URL:https://business.bataviachamber.org/events/details/gibby-s-wine-den-taste-of-harvest-09-30-2009-1011
END:VEVENT

END:VCALENDAR
