BEGIN:VCALENDAR
VERSION:2.0
PRODID:-//ChamberMaster//Event Calendar 2.0//EN
METHOD:PUBLISH
X-PUBLISHED-TTL:P3D
REFRESH-INTERVAL:P3D
CALSCALE:GREGORIAN
BEGIN:VEVENT
DTSTART:20110211T060000Z
DTEND:20110211T060000Z
X-MICROSOFT-CDO-ALLDAYEVENT:FALSE
SUMMARY:Gibby's Wine Den ~ Sip 'N Dip Fondue Night
DESCRIPTION:Gather with friends around the melting pots at Gibby's. Enjoy delicious wine based fondues while sipping on featured wines for the evening. Reservations are required and space is limited. $25 per person.
X-ALT-DESC;FMTTYPE=text/html:Gather with friends around the melting pots at Gibby's. Enjoy delicious wine based fondues while sipping on featured wines for the evening. Reservations are required and space is limited. $25 per person.
LOCATION:Gibby's Wine Den
UID:e.1902.124
SEQUENCE:3
DTSTAMP:20260419T212443Z
URL:https://business.bataviachamber.org/events/details/gibby-s-wine-den-sip-n-dip-fondue-night-02-11-2011-124
END:VEVENT

END:VCALENDAR
