BEGIN:VCALENDAR
VERSION:2.0
PRODID:-//ChamberMaster//Event Calendar 2.0//EN
METHOD:PUBLISH
X-PUBLISHED-TTL:P3D
REFRESH-INTERVAL:P3D
CALSCALE:GREGORIAN
BEGIN:VEVENT
DTSTART:20100226T060000Z
DTEND:20100226T060000Z
X-MICROSOFT-CDO-ALLDAYEVENT:FALSE
SUMMARY:Gibby's Wine Den ~ Sip and Dip
DESCRIPTION:Back by popular demand\, the opportunity to sample interesting fondue recipes paired\nperfectly withoutstanding wines. Join us on Friday February 26\, 2010 at 7 pm around the pot.\nFriday February 26\,7 pm\n$25 per person\nSpace is limited. Reservations required\nPremium Event
X-ALT-DESC;FMTTYPE=text/html:Back by popular demand\, the opportunity to sample interesting fondue recipes paired\nperfectly withoutstanding wines. Join us on Friday February 26\, 2010 at 7 pm around the pot.\nFriday February 26\,7 pm\n$25 per person\nSpace is limited. Reservations required\nPremium Event\n
LOCATION:Gibby's Wine Den
UID:e.1902.1097
SEQUENCE:3
DTSTAMP:20260420T175410Z
URL:https://business.bataviachamber.org/events/details/gibby-s-wine-den-sip-and-dip-02-26-2010-1097
END:VEVENT

END:VCALENDAR
