BEGIN:VCALENDAR
VERSION:2.0
PRODID:-//ChamberMaster//Event Calendar 2.0//EN
METHOD:PUBLISH
X-PUBLISHED-TTL:P3D
REFRESH-INTERVAL:P3D
CALSCALE:GREGORIAN
BEGIN:VEVENT
DTSTART:20110503T050000Z
DTEND:20110503T050000Z
X-MICROSOFT-CDO-ALLDAYEVENT:FALSE
SUMMARY:Gibby's Wine Den ~ Shopping Night at Eaglebrook Country Clu
DESCRIPTION:Visit us at Eaglebrook Country Club tonight and enjoy an evening out shopping with friends! Eaglebrook brings together some great businesses for a fun night. No reservations required. No Fee and you do not need to be a member to attend.
X-ALT-DESC;FMTTYPE=text/html:Visit us at Eaglebrook Country Club tonight and enjoy an evening out shopping with friends! Eaglebrook brings together some great businesses for a fun night. No reservations required. No Fee and you do not need to be a member to attend.\n\n
LOCATION:Gibby's Wine Den
UID:e.1902.224
SEQUENCE:3
DTSTAMP:20260419T164708Z
URL:https://business.bataviachamber.org/events/details/gibby-s-wine-den-shopping-night-at-eaglebrook-country-clu-05-03-2011-224
END:VEVENT

END:VCALENDAR
