BEGIN:VCALENDAR
VERSION:2.0
PRODID:-//ChamberMaster//Event Calendar 2.0//EN
METHOD:PUBLISH
X-PUBLISHED-TTL:P3D
REFRESH-INTERVAL:P3D
CALSCALE:GREGORIAN
BEGIN:VEVENT
DTSTART:20110604T050000Z
DTEND:20110604T050000Z
X-MICROSOFT-CDO-ALLDAYEVENT:FALSE
SUMMARY:Gibby's Wine Den ~ Sangria Saturday
DESCRIPTION:Sangria Saturdays are back and are a Summer favorite! Join us around the bar every Saturday this summer for delicious\, unique\, and refreshing Sangria at $5/glass. Complimentary nibbles are offered from 5 - 7. As always\, you may order from our regular by-the-glass bar menu. We will have our recipes available for you to take home to create your own concoction. Come in\, cool off\, catch up with friends\, shop\, enjoy the art\, the wines and the atmosphere at Gibby's Wine Bar!
X-ALT-DESC;FMTTYPE=text/html:Sangria Saturdays are back and are a Summer favorite! Join us around the bar every Saturday this summer for delicious\, unique\, and refreshing Sangria at $5/glass. Complimentary nibbles are offered from 5 - 7. As always\, you may order from our regular by-the-glass bar menu. We will have our recipes available for you to take home to create your own concoction. Come in\, cool off\, catch up with friends\, shop\, enjoy the art\, the wines and the atmosphere at Gibby's Wine Bar!
LOCATION:Gibby's Wine Den
UID:e.1902.255
SEQUENCE:3
DTSTAMP:20260419T164202Z
URL:https://business.bataviachamber.org/events/details/gibby-s-wine-den-sangria-saturday-06-04-2011-255
END:VEVENT

END:VCALENDAR
