BEGIN:VCALENDAR
VERSION:2.0
PRODID:-//ChamberMaster//Event Calendar 2.0//EN
METHOD:PUBLISH
X-PUBLISHED-TTL:P3D
REFRESH-INTERVAL:P3D
CALSCALE:GREGORIAN
BEGIN:VEVENT
DTSTART:20100311T060000Z
DTEND:20100311T060000Z
X-MICROSOFT-CDO-ALLDAYEVENT:FALSE
SUMMARY:Gibby's Wine Den ~ Redress Your Home For Spring
DESCRIPTION:Great colors and textures can take your home from the ordinary to special. Stop by Gibby’s Wine Denon Thursday March 11 from 7 – 9 pm for an opportunity to see new ideas that can be easily put into your home\, present your own issues\, and enjoy the energy and ideas of creative area designers. Wine by the glass\, appetizers\, and raffle prizes will add to the evening!\n\nRSVP to 630.208.6424\n\nReservations recommended
X-ALT-DESC;FMTTYPE=text/html:Great colors and textures can take your home from the ordinary to special. Stop by Gibby’s Wine Denon Thursday March 11 from 7 – 9 pm for an opportunity to see new ideas that can be easily put into your home\, present your own issues\, and enjoy the energy and ideas of creative area designers. Wine by the glass\, appetizers\, and raffle prizes will add to the evening!\n\nRSVP to 630.208.6424\n\nReservations recommended\n \n
LOCATION:Gibby's Wine Den
UID:e.1902.1132
SEQUENCE:3
DTSTAMP:20260420T162443Z
URL:https://business.bataviachamber.org/events/details/gibby-s-wine-den-redress-your-home-for-spring-03-11-2010-1132
END:VEVENT

END:VCALENDAR
