BEGIN:VCALENDAR
VERSION:2.0
PRODID:-//ChamberMaster//Event Calendar 2.0//EN
METHOD:PUBLISH
X-PUBLISHED-TTL:P3D
REFRESH-INTERVAL:P3D
CALSCALE:GREGORIAN
BEGIN:VEVENT
DTSTART:20120313T050000Z
DTEND:20120313T050000Z
X-MICROSOFT-CDO-ALLDAYEVENT:FALSE
SUMMARY:Gibby's Wine Den ~ Red Hat Rendezvous
DESCRIPTION:Is there a red hat carefully placed on a shelf in your closet? Pull it out and head to Gibby’s WineDen for a cheese and wine pairing on Tuesday March 13\, 2012. Taste three unique domestic handcraftedcheeses paired with just the right wine to enhance the experience. Come if you are a red hat lady on your own or in a group. The late afternoon will be bursting with food\, fabulous wine\, and raffle prizes.\n\nEvent will be held at Gibby’s Wine Den 1772 South Randall Road\, Suite 220 Geneva\n\nReservations are required for this event and can be made through Geneva Park District (630)232-4542 or at genevaparks.org \; or Batavia Park District (630)879-5235 or at bataviaparks.or g.
X-ALT-DESC;FMTTYPE=text/html:Is there a red hat carefully placed on a shelf in your closet? Pull it out and head to Gibby’s WineDen for a cheese and wine pairing on Tuesday March 13\, 2012. Taste three unique domestic handcraftedcheeses paired with just the right wine to enhance the experience. Come if you are a red hat lady on your own or in a group. The late afternoon will be bursting with food\, fabulous wine\, and raffle prizes.\n\nEvent will be held at Gibby’s Wine Den 1772 South Randall Road\, Suite 220 Geneva\n\nReservations are required for this event and can be made through Geneva Park District (630)232-4542 or at genevaparks.org&#8203\;\; or Batavia Park District (630)879-5235 or at bataviaparks.or&#8203\;g. \n
LOCATION:Gibby's Wine Den
UID:e.1902.525
SEQUENCE:3
DTSTAMP:20260422T202333Z
URL:https://business.bataviachamber.org/events/details/gibby-s-wine-den-red-hat-rendezvous-03-13-2012-525
END:VEVENT

END:VCALENDAR
