BEGIN:VCALENDAR
VERSION:2.0
PRODID:-//ChamberMaster//Event Calendar 2.0//EN
METHOD:PUBLISH
X-PUBLISHED-TTL:P3D
REFRESH-INTERVAL:P3D
CALSCALE:GREGORIAN
BEGIN:VEVENT
DTSTART:20110615T050000Z
DTEND:20110615T050000Z
X-MICROSOFT-CDO-ALLDAYEVENT:FALSE
SUMMARY:Gibby's Wine Den ~ Life Behind Bars with Guest Bartender\, G
DESCRIPTION:For 25 years Greg Gauthier sold wine\, studied wine\, and developed deep friends in the wine industry.In 2002 he launched his own label with three tons of Los Carneros Pinot Noir. Greg is also Vice President of  Wine Production and Sales for Bouchaine Vineyards\, the oldest continually operating winery in Napa's Carneros region. Each of the vineyards tells a story. Join us tonight as Greg serves asguest bartender\, weaves the tales\, and tastes through the wines.\n\nRaffle prizes\, fun and great wine!\nReservations required\n$20/ person
X-ALT-DESC;FMTTYPE=text/html:For 25 years Greg Gauthier sold wine\, studied wine\, and developed deep friends in the wine industry.In 2002 he launched his own label with three tons of Los Carneros Pinot Noir. Greg is also Vice President of  Wine Production and Sales for Bouchaine Vineyards\, the oldest continually operating winery in Napa's Carneros region. Each of the vineyards tells a story. Join us tonight as Greg serves asguest bartender\, weaves the tales\, and tastes through the wines.\n\nRaffle prizes\, fun and great wine!\nReservations required\n$20/ person\n
LOCATION:Gibby's Wine Den
UID:e.1902.263
SEQUENCE:3
DTSTAMP:20260419T164432Z
URL:https://business.bataviachamber.org/events/details/gibby-s-wine-den-life-behind-bars-with-guest-bartender-g-06-15-2011-263
END:VEVENT

END:VCALENDAR
