BEGIN:VCALENDAR
VERSION:2.0
PRODID:-//ChamberMaster//Event Calendar 2.0//EN
METHOD:PUBLISH
X-PUBLISHED-TTL:P3D
REFRESH-INTERVAL:P3D
CALSCALE:GREGORIAN
BEGIN:VEVENT
DTSTART:20110414T050000Z
DTEND:20110414T050000Z
X-MICROSOFT-CDO-ALLDAYEVENT:FALSE
SUMMARY:Gibby's Wine Den ~ Ladies Night Out: Spring Into Action!
DESCRIPTION:This Ladies' Night Out event will put the spotlight on decorating for Spring. Get yourself and yourhome or office ready with these great tips from Gibby's Celebration Design team. Get great ideas forcenterpieces and urns and easy ways to bring Spring into your home. All this while enjoying a glassfrom our special menu for the evening.
X-ALT-DESC;FMTTYPE=text/html:This Ladies' Night Out event will put the spotlight on decorating for Spring. Get yourself and yourhome or office ready with these great tips from Gibby's Celebration Design team. Get great ideas forcenterpieces and urns and easy ways to bring Spring into your home. All this while enjoying a glassfrom our special menu for the evening.\n\n
LOCATION:Gibby's Wine Den
UID:e.1902.188
SEQUENCE:3
DTSTAMP:20260419T181134Z
URL:https://business.bataviachamber.org/events/details/gibby-s-wine-den-ladies-night-out-spring-into-action-04-14-2011-188
END:VEVENT

END:VCALENDAR
