BEGIN:VCALENDAR
VERSION:2.0
PRODID:-//ChamberMaster//Event Calendar 2.0//EN
METHOD:PUBLISH
X-PUBLISHED-TTL:P3D
REFRESH-INTERVAL:P3D
CALSCALE:GREGORIAN
BEGIN:VEVENT
DTSTART:20090319T050000Z
DTEND:20090319T050000Z
X-MICROSOFT-CDO-ALLDAYEVENT:FALSE
SUMMARY:Gibby's Wine Den ~ Ladies Night Out: Setting The Stage For
DESCRIPTION:Our Celebrations Design team will be leading a seminar tonight demonstrating how to set the stage for a memorable event in your home or at the office. Your ticket price includes nibbles to nosh\, a glass of wine\, a $5 coupon and the opportunity to solicit personal advice for your upcoming events. Grab your girlfriends for a fun night out! $20/person\, reservations required.
X-ALT-DESC;FMTTYPE=text/html:Our Celebrations Design team will be leading a seminar tonight demonstrating how to set the stage for a memorable event in your home or at the office. Your ticket price includes nibbles to nosh\, a glass of wine\, a $5 coupon and the opportunity to solicit personal advice for your upcoming events. Grab your girlfriends for a fun night out! $20/person\, reservations required.
LOCATION:Gibby's Wine Den
UID:e.1902.881
SEQUENCE:3
DTSTAMP:20260421T144227Z
URL:https://business.bataviachamber.org/events/details/gibby-s-wine-den-ladies-night-out-setting-the-stage-for-03-19-2009-881
END:VEVENT

END:VCALENDAR
