BEGIN:VCALENDAR
VERSION:2.0
PRODID:-//ChamberMaster//Event Calendar 2.0//EN
METHOD:PUBLISH
X-PUBLISHED-TTL:P3D
REFRESH-INTERVAL:P3D
CALSCALE:GREGORIAN
BEGIN:VEVENT
DTSTART:20110210T060000Z
DTEND:20110210T060000Z
X-MICROSOFT-CDO-ALLDAYEVENT:FALSE
SUMMARY:Gibby's Wine Den~ Ladies Night Out...Sangria Night!
DESCRIPTION:Melt away the winter blahs with an evening of tropical treats. Enjoy some of our favorite recipes from our Sangria Saturdays. Flip Flops??? Your call\, but we'll set the mood for summer fun!
X-ALT-DESC;FMTTYPE=text/html:Melt away the winter blahs with an evening of tropical treats. Enjoy some of our favorite recipes from our Sangria Saturdays. Flip Flops??? Your call\, but we'll set the mood for summer fun!
LOCATION:Gibby's Wine Den
UID:e.1902.122
SEQUENCE:3
DTSTAMP:20260419T212442Z
URL:https://business.bataviachamber.org/events/details/gibby-s-wine-den-ladies-night-out-sangria-night-02-10-2011-122
END:VEVENT

END:VCALENDAR
