BEGIN:VCALENDAR
VERSION:2.0
PRODID:-//ChamberMaster//Event Calendar 2.0//EN
METHOD:PUBLISH
X-PUBLISHED-TTL:P3D
REFRESH-INTERVAL:P3D
CALSCALE:GREGORIAN
BEGIN:VEVENT
DTSTART:20100204T060000Z
DTEND:20100204T060000Z
X-MICROSOFT-CDO-ALLDAYEVENT:FALSE
SUMMARY:Gibby's Wine Den ~ Ladies Night Out - Sangria Night!
DESCRIPTION:The snow may be piling up to the door\, but it will be warm inside so Gibby’s Wine Den offers a winter get away – Sangria Night for the ladies in February. We will\npresent our top recipes in a by-the-glass menu. The topical environment will melt away the doldrums of winter.\nThursday February 4\,7 pm\nThis is a no charge event. Reservations required
X-ALT-DESC;FMTTYPE=text/html:The snow may be piling up to the door\, but it will be warm inside so Gibby’s Wine Den offers a winter get away – Sangria Night for the ladies in February. We will\npresent our top recipes in a by-the-glass menu. The topical environment will melt away the doldrums of winter.\nThursday February 4\,7 pm\nThis is a no charge event. Reservations required\n
LOCATION:Gibby's Wine Den
UID:e.1902.1089
SEQUENCE:3
DTSTAMP:20260420T175623Z
URL:https://business.bataviachamber.org/events/details/gibby-s-wine-den-ladies-night-out-sangria-night-02-04-2010-1089
END:VEVENT

END:VCALENDAR
