BEGIN:VCALENDAR
VERSION:2.0
PRODID:-//ChamberMaster//Event Calendar 2.0//EN
METHOD:PUBLISH
X-PUBLISHED-TTL:P3D
REFRESH-INTERVAL:P3D
CALSCALE:GREGORIAN
BEGIN:VEVENT
DTSTART:20091001T050000Z
DTEND:20091001T050000Z
X-MICROSOFT-CDO-ALLDAYEVENT:FALSE
SUMMARY:Gibby's Wine Den ~ Ladies Night Out ~ ''Mirrors\, Mantels and
DESCRIPTION:Join the Celebration Desgin team as they demonstrate how to prepare your home for the upcoming seasons.  This idea filled evening will include nibbles on tasty treats\, a glass of wine and the opportuinity to enjoy a significant savings on an in-home consultation.  Gather a few friends and make yourreservations.  Space is limited.\n\n$10/person\, reservations are required.
X-ALT-DESC;FMTTYPE=text/html:Join the Celebration Desgin team as they demonstrate how to prepare your home for the upcoming seasons.  This idea filled evening will include nibbles on tasty treats\, a glass of wine and the opportuinity to enjoy a significant savings on an in-home consultation.  Gather a few friends and make yourreservations.  Space is limited.\n\n$10/person\, reservations are required.\n
LOCATION:Gibby's Wine Den
UID:e.1902.1015
SEQUENCE:3
DTSTAMP:20260421T011504Z
URL:https://business.bataviachamber.org/events/details/gibby-s-wine-den-ladies-night-out-mirrors-mantels-and-10-01-2009-1015
END:VEVENT

END:VCALENDAR
