BEGIN:VCALENDAR
VERSION:2.0
PRODID:-//ChamberMaster//Event Calendar 2.0//EN
METHOD:PUBLISH
X-PUBLISHED-TTL:P3D
REFRESH-INTERVAL:P3D
CALSCALE:GREGORIAN
BEGIN:VEVENT
DTSTART:20110511T050000Z
DTEND:20110511T050000Z
X-MICROSOFT-CDO-ALLDAYEVENT:FALSE
SUMMARY:Gibby's Wine Den ~ Ladies Night Out: Beads\, Bags\, Bubbles &
DESCRIPTION:Grab your girlfriends and enjoy an evening of Fun & Fashion with Gibby's\, KHollis Jewelers\, MontageSalon & Spa\, Miche Bags\, Cocoa Bean and The East Room. This is a complimentary event – reservationsare recommended
X-ALT-DESC;FMTTYPE=text/html:Grab your girlfriends and enjoy an evening of Fun & Fashion with Gibby's\, KHollis Jewelers\, MontageSalon & Spa\, Miche Bags\, Cocoa Bean and The East Room. This is a complimentary event – reservationsare recommended
LOCATION:Gibby's Wine Den
UID:e.1902.229
SEQUENCE:3
DTSTAMP:20260419T164726Z
URL:https://business.bataviachamber.org/events/details/gibby-s-wine-den-ladies-night-out-beads-bags-bubbles-05-11-2011-229
END:VEVENT

END:VCALENDAR
