BEGIN:VCALENDAR
VERSION:2.0
PRODID:-//ChamberMaster//Event Calendar 2.0//EN
METHOD:PUBLISH
X-PUBLISHED-TTL:P3D
REFRESH-INTERVAL:P3D
CALSCALE:GREGORIAN
BEGIN:VEVENT
DTSTART:20120220T060000Z
DTEND:20120220T060000Z
X-MICROSOFT-CDO-ALLDAYEVENT:FALSE
SUMMARY:Gibby's Wine Den ~ Introduction To Wine Tasting with Waubon
DESCRIPTION:This is the ultimate workout for your palate. Train your taste buds to pick out a variety of flavors\, hone your sniffing skills\, and use your eyes to tell the age of the wine. Impress your friends bylearning to taste like a pro. The class includes tasting wines and two $5 coupons to be applied to aminimum purchase.\n\nReservations required and can be made through Waubonsee Community College (630) 466-7900 or www.waubonsee.e du\n\nClasses will be held at Gibby’s Wine Den
X-ALT-DESC;FMTTYPE=text/html:This is the ultimate workout for your palate. Train your taste buds to pick out a variety of flavors\, hone your sniffing skills\, and use your eyes to tell the age of the wine. Impress your friends bylearning to taste like a pro. The class includes tasting wines and two $5 coupons to be applied to aminimum purchase.\n\nReservations required and can be made through Waubonsee Community College (630) 466-7900 or www.waubonsee.e&#8203\;du\n\nClasses will be held at Gibby’s Wine Den\n
LOCATION:Gibby's Wine Den
UID:e.1902.493
SEQUENCE:3
DTSTAMP:20260422T223739Z
URL:https://business.bataviachamber.org/events/details/gibby-s-wine-den-introduction-to-wine-tasting-with-waubon-02-20-2012-493
END:VEVENT

END:VCALENDAR
