BEGIN:VCALENDAR
VERSION:2.0
PRODID:-//ChamberMaster//Event Calendar 2.0//EN
METHOD:PUBLISH
X-PUBLISHED-TTL:P3D
REFRESH-INTERVAL:P3D
CALSCALE:GREGORIAN
BEGIN:VEVENT
DTSTART:20100125T060000Z
DTEND:20100125T060000Z
X-MICROSOFT-CDO-ALLDAYEVENT:FALSE
SUMMARY:Gibby's Wine Den ~ Introduction to Wine Tasting Class\, Part
DESCRIPTION:This is the ultimate workout for your palate. Train your taste buds to pick out a variety of flavors\, hone your sniffing skills\, and use your eyes to tell the age of the wine. Impress your friends bylearning to taste like a pro. In the second class\, move beyond the basics to a deeper understandingof terroir\, varietals\, and the balance of a great wine.\n\nJanuary 25  ~ 7 pm\nParticipants will sample 5 wines at each session.\nReservations required through Waubonsee Community College at 630-466-7900
X-ALT-DESC;FMTTYPE=text/html:This is the ultimate workout for your palate. Train your taste buds to pick out a variety of flavors\, hone your sniffing skills\, and use your eyes to tell the age of the wine. Impress your friends bylearning to taste like a pro. In the second class\, move beyond the basics to a deeper understandingof terroir\, varietals\, and the balance of a great wine.\n\nJanuary 25  ~ 7 pm\nParticipants will sample 5 wines at each session.\nReservations required through Waubonsee Community College at 630-466-7900\n \n
LOCATION:Gibby's Wine Den
UID:e.1902.1088
SEQUENCE:3
DTSTAMP:20260420T195128Z
URL:https://business.bataviachamber.org/events/details/gibby-s-wine-den-introduction-to-wine-tasting-class-part-01-25-2010-1088
END:VEVENT

END:VCALENDAR
