BEGIN:VCALENDAR
VERSION:2.0
PRODID:-//ChamberMaster//Event Calendar 2.0//EN
METHOD:PUBLISH
X-PUBLISHED-TTL:P3D
REFRESH-INTERVAL:P3D
CALSCALE:GREGORIAN
BEGIN:VEVENT
DTSTART:20100419T050000Z
DTEND:20100419T050000Z
X-MICROSOFT-CDO-ALLDAYEVENT:FALSE
SUMMARY:Gibby's Wine Den ~ How To Start A Wine Tasting Group
DESCRIPTION:Looking to start a wine tasting group? Gibby’s Wine Den will host two initial\nevents to get you started.\nSession 1 will give you an introduction to wine tasting. This is the ultimate\nworkout for your palate. Train your taste buds to pick out a variety of flavors\,\nhone your sniffing skills and use your eyes to tell the age of the wine. Impress\nyour friends by learning to taste like a pro.\nSession 2 will set the direction for the group and provide tools and resources for the group to begin their wine tasting adventure.\nAt each session\, four wines will be tasted\, explored and enjoyed.Personalized workbooks will be utilized during the sessions.\nRegistration required through St. Charles Park District 630-513-6200.\nMondays April 19 and 26   7 p.m.\nOR\nMondays June 7 and 14    7 p.m.
X-ALT-DESC;FMTTYPE=text/html:Looking to start a wine tasting group? Gibby’s Wine Den will host two initial\nevents to get you started.\nSession 1 will give you an introduction to wine tasting. This is the ultimate\nworkout for your palate. Train your taste buds to pick out a variety of flavors\,\nhone your sniffing skills and use your eyes to tell the age of the wine. Impress\nyour friends by learning to taste like a pro.\nSession 2 will set the direction for the group and provide tools and resources for the group to begin their wine tasting adventure.\nAt each session\, four wines will be tasted\, explored and enjoyed.Personalized workbooks will be utilized during the sessions.\nRegistration required through St. Charles Park District 630-513-6200.\nMondays April 19 and 26   7 p.m.\nOR\nMondays June 7 and 14    7 p.m.\n \n\n\n
LOCATION:Gibby's Wine Den
UID:e.1902.1142
SEQUENCE:3
DTSTAMP:20260420T162243Z
URL:https://business.bataviachamber.org/events/details/gibby-s-wine-den-how-to-start-a-wine-tasting-group-04-19-2010-1142
END:VEVENT

END:VCALENDAR
