BEGIN:VCALENDAR
VERSION:2.0
PRODID:-//ChamberMaster//Event Calendar 2.0//EN
METHOD:PUBLISH
X-PUBLISHED-TTL:P3D
REFRESH-INTERVAL:P3D
CALSCALE:GREGORIAN
BEGIN:VEVENT
DTSTART:20091015T050000Z
DTEND:20091015T050000Z
X-MICROSOFT-CDO-ALLDAYEVENT:FALSE
SUMMARY:GIbby's Wine Den ~ Hill Family Estate Wine Dinner
DESCRIPTION:Join us for a special night tonight\, as Ryan Hill\, owner and winemaker of Hill Family Estates Winery\, Napa Valley\, shares the wine and the family story tonight at CityGate Grille in Naperville.   Thereception begins at 6:30 with a four course dinner to follow. \n\nThe cost of this premuim event is$75 / person.  Reservations can be made through CityGate Grille at  630-718-1010.
X-ALT-DESC;FMTTYPE=text/html:Join us for a special night tonight\, as Ryan Hill\, owner and winemaker of Hill Family Estates Winery\, Napa Valley\, shares the wine and the family story tonight at CityGate Grille in Naperville.   Thereception begins at 6:30 with a four course dinner to follow. \n\nThe cost of this premuim event is$75 / person.  Reservations can be made through CityGate Grille at  630-718-1010. \n
LOCATION:CityGate Grille
UID:e.1902.1022
SEQUENCE:3
DTSTAMP:20260421T011644Z
URL:https://business.bataviachamber.org/events/details/gibby-s-wine-den-hill-family-estate-wine-dinner-10-15-2009-1022
END:VEVENT

END:VCALENDAR
