BEGIN:VCALENDAR
VERSION:2.0
PRODID:-//ChamberMaster//Event Calendar 2.0//EN
METHOD:PUBLISH
X-PUBLISHED-TTL:P3D
REFRESH-INTERVAL:P3D
CALSCALE:GREGORIAN
BEGIN:VEVENT
DTSTART:20100923T050000Z
DTEND:20100923T050000Z
X-MICROSOFT-CDO-ALLDAYEVENT:FALSE
SUMMARY:Gibby's Wine Den ~ Guest Bartender\, Bin 36 winemaker\, Brian
DESCRIPTION:Brian Duncan\, owner of Bin 36\, an urban chic restaurant and wine bar in downtown Chicago\, has partnered with Hahn Family Wines to create approachable and affordable wines that drink beyond price. In the restaurant\, Brian is dedicated to changing the wine pairings to the menu daily which focuses on seasonal ingredients. He has a hands on approach to developing the wines that bear the restaurants name. Join us tonight at 7 p.m. to hear the story of how Brian and the Hahn family came to collaborateand create this magnificent wine experience. Brian will be sampling 5 wines and offering some amazing raffle prizes. $20/person. Reservations Required
X-ALT-DESC;FMTTYPE=text/html:Brian Duncan\, owner of Bin 36\, an urban chic restaurant and wine bar in downtown Chicago\, has partnered with Hahn Family Wines to create approachable and affordable wines that drink beyond price. In the restaurant\, Brian is dedicated to changing the wine pairings to the menu daily which focuses on seasonal ingredients. He has a hands on approach to developing the wines that bear the restaurants name. Join us tonight at 7 p.m. to hear the story of how Brian and the Hahn family came to collaborateand create this magnificent wine experience. Brian will be sampling 5 wines and offering some amazing raffle prizes. $20/person. Reservations Required
LOCATION:Gibby's Wine Den
UID:e.1902.42
SEQUENCE:3
DTSTAMP:20260420T060606Z
URL:https://business.bataviachamber.org/events/details/gibby-s-wine-den-guest-bartender-bin-36-winemaker-brian-09-23-2010-42
END:VEVENT

END:VCALENDAR
