BEGIN:VCALENDAR
VERSION:2.0
PRODID:-//ChamberMaster//Event Calendar 2.0//EN
METHOD:PUBLISH
X-PUBLISHED-TTL:P3D
REFRESH-INTERVAL:P3D
CALSCALE:GREGORIAN
BEGIN:VEVENT
DTSTART:20110428T050000Z
DTEND:20110428T050000Z
X-MICROSOFT-CDO-ALLDAYEVENT:FALSE
SUMMARY:Gibby's Wine Den ~ Grapes and Guys
DESCRIPTION:Join us for an evening of Grapes and Guys. As local author\, Nicki Elson\, reads from her first book\,"The Three Daves"\, you can enjoy a different wine for each Dave - Dave\, David and Big D. Following this\, Nicki will read from her latest novel ... and you can enjoy something surprising (in your glasses!).\nEnjoy complimentary appetizers.
X-ALT-DESC;FMTTYPE=text/html:Join us for an evening of Grapes and Guys. As local author\, Nicki Elson\, reads from her first book\,"The Three Daves"\, you can enjoy a different wine for each Dave - Dave\, David and Big D. Following this\, Nicki will read from her latest novel ... and you can enjoy something surprising (in your glasses!).\nEnjoy complimentary appetizers.
LOCATION:Gibby's Wine Den
UID:e.1902.191
SEQUENCE:3
DTSTAMP:20260419T180933Z
URL:https://business.bataviachamber.org/events/details/gibby-s-wine-den-grapes-and-guys-04-28-2011-191
END:VEVENT

END:VCALENDAR
