BEGIN:VCALENDAR
VERSION:2.0
PRODID:-//ChamberMaster//Event Calendar 2.0//EN
METHOD:PUBLISH
X-PUBLISHED-TTL:P3D
REFRESH-INTERVAL:P3D
CALSCALE:GREGORIAN
BEGIN:VEVENT
DTSTART:20100301T060000Z
DTEND:20100301T060000Z
X-MICROSOFT-CDO-ALLDAYEVENT:FALSE
SUMMARY:Gibby's Wine Den ~ Gibby's Wine Den ~ Chardonnay...More Va
DESCRIPTION:Study and taste the nuances of this classic varietal. You will be amazed at the breath Chardonnay can bring!  Witness the regional influences\, different winemaker's\nstyles\, and influences of terriorand climate. We will compare New World and Old World styles\, and winemaking techniques affecting flavor profiles.                                     \nMonday March 1\, 7 pm\n$25/person\nReservation required
X-ALT-DESC;FMTTYPE=text/html:Study and taste the nuances of this classic varietal. You will be amazed at the breath Chardonnay can bring!  Witness the regional influences\, different winemaker's\nstyles\, and influences of terriorand climate. We will compare New World and Old World styles\, and winemaking techniques affecting flavor profiles.                                     \nMonday March 1\, 7 pm\n$25/person\nReservation required
LOCATION:Gibby's Wine Den
UID:e.1902.1117
SEQUENCE:3
DTSTAMP:20260420T162606Z
URL:https://business.bataviachamber.org/events/details/gibby-s-wine-den-gibby-s-wine-den-chardonnay-more-va-03-01-2010-1117
END:VEVENT

END:VCALENDAR
