BEGIN:VCALENDAR
VERSION:2.0
PRODID:-//ChamberMaster//Event Calendar 2.0//EN
METHOD:PUBLISH
X-PUBLISHED-TTL:P3D
REFRESH-INTERVAL:P3D
CALSCALE:GREGORIAN
BEGIN:VEVENT
DTSTART:20100118T060000Z
DTEND:20100118T060000Z
X-MICROSOFT-CDO-ALLDAYEVENT:FALSE
SUMMARY:Gibby's Wine Den ~ Gibby's University: Intro to Wine Tasti
DESCRIPTION:This is the ultimate workout for your palate. Train your taste buds to pick out a variety of flavors\, hone your sniffing skills\, and use your eyes to tell the age of the wine. Impress your friends bylearning to taste like a pro. In the second class\, move beyond the basics to a deeper understandingof terroir\, varietals\, and the balance of a great wine.Mondays January18 ~  7 pm\nJanuary 25  ~ 7 pm\nParticipants will sample 5 wines at each session.\n\nReservations required through Waubonsee Community College 630-466-7900
X-ALT-DESC;FMTTYPE=text/html:This is the ultimate workout for your palate. Train your taste buds to pick out a variety of flavors\, hone your sniffing skills\, and use your eyes to tell the age of the wine. Impress your friends bylearning to taste like a pro. In the second class\, move beyond the basics to a deeper understandingof terroir\, varietals\, and the balance of a great wine.Mondays January18 ~  7 pm\nJanuary 25  ~ 7 pm\nParticipants will sample 5 wines at each session.\n\nReservations required through Waubonsee Community College 630-466-7900\n\n
LOCATION:Gibby's Wine Den
UID:e.1902.1086
SEQUENCE:3
DTSTAMP:20260420T195327Z
URL:https://business.bataviachamber.org/events/details/gibby-s-wine-den-gibby-s-university-intro-to-wine-tasti-01-18-2010-1086
END:VEVENT

END:VCALENDAR
