BEGIN:VCALENDAR
VERSION:2.0
PRODID:-//ChamberMaster//Event Calendar 2.0//EN
METHOD:PUBLISH
X-PUBLISHED-TTL:P3D
REFRESH-INTERVAL:P3D
CALSCALE:GREGORIAN
BEGIN:VEVENT
DTSTART:20090309T050000Z
DTEND:20090309T050000Z
X-MICROSOFT-CDO-ALLDAYEVENT:FALSE
SUMMARY:Gibby's Wine Den ~ Gibby's University: Germany: The Rhin
DESCRIPTION:Let Gibby's bring you a more detailed approach in wine appreciation.  This evel provides more sophisticated tasting and learning opportunites. Today\nwe take you to Germany ~ so many regions\, so manystyles of Rieslings!  But do not lose sight of Pinot Noir.  Sample the terroir's effects as you windthrough this extremely interesting wine country.  \n$25 per person\, reservations required.
X-ALT-DESC;FMTTYPE=text/html:Let Gibby's bring you a more detailed approach in wine appreciation.  This evel provides more sophisticated tasting and learning opportunites. Today\nwe take you to Germany ~ so many regions\, so manystyles of Rieslings!  But do not lose sight of Pinot Noir.  Sample the terroir's effects as you windthrough this extremely interesting wine country.  \n$25 per person\, reservations required.
LOCATION:Gibby's Wine Den
UID:e.1902.877
SEQUENCE:3
DTSTAMP:20260421T145423Z
URL:https://business.bataviachamber.org/events/details/gibby-s-wine-den-gibby-s-university-germany-the-rhin-03-09-2009-877
END:VEVENT

END:VCALENDAR
