BEGIN:VCALENDAR
VERSION:2.0
PRODID:-//ChamberMaster//Event Calendar 2.0//EN
METHOD:PUBLISH
X-PUBLISHED-TTL:P3D
REFRESH-INTERVAL:P3D
CALSCALE:GREGORIAN
BEGIN:VEVENT
DTSTART:20091019T050000Z
DTEND:20091019T050000Z
X-MICROSOFT-CDO-ALLDAYEVENT:FALSE
SUMMARY:Gibby's Wine Den ~ Gibby's University: A Study of France\,
DESCRIPTION:This is the final class on our regional study for this quarter\, the 4 main regions of France. What seems overwhelming inthe wine world\, will be broken down into manageable components so you can be athome in the French section at Gibby's! You will taste 4 wines at each class from the corresponding region. Register for all 4 classes for $100 or attend individual sessions for $30 each. Reservationsare required. We look forward to taking you on this wine tour of France!
X-ALT-DESC;FMTTYPE=text/html:This is the final class on our regional study for this quarter\, the 4 main regions of France. What seems overwhelming inthe wine world\, will be broken down into manageable components so you can be athome in the French section at Gibby's! You will taste 4 wines at each class from the corresponding region. Register for all 4 classes for $100 or attend individual sessions for $30 each. Reservationsare required. We look forward to taking you on this wine tour of France!\n
LOCATION:Gibby's Wine Den
UID:e.1902.1024
SEQUENCE:3
DTSTAMP:20260424T213015Z
URL:https://business.bataviachamber.org/events/details/gibby-s-wine-den-gibby-s-university-a-study-of-france-10-19-2009-1024
END:VEVENT

END:VCALENDAR
