BEGIN:VCALENDAR
VERSION:2.0
PRODID:-//ChamberMaster//Event Calendar 2.0//EN
METHOD:PUBLISH
X-PUBLISHED-TTL:P3D
REFRESH-INTERVAL:P3D
CALSCALE:GREGORIAN
BEGIN:VEVENT
DTSTART:20091005T050000Z
DTEND:20091005T050000Z
X-MICROSOFT-CDO-ALLDAYEVENT:FALSE
SUMMARY:Gibby's Wine Den ~ Gibby's University: A Study Of France\,
DESCRIPTION:Regional study this quarter will center on the 4 main regions of France. What seems overwhelming inthe wine world\, will be broken down into manageable components so you can be at home in the French section at Gibby's! You will taste 4 wines at each class from the corresponding region. Register for all 4 classes for $100 or attend individual sessions for $30 each. The next classes will be held on October 12 (Bordeaux) and October 19 (Burgandy).\n\nReservations are required. We look forward to taking you on this wine tour of France!
X-ALT-DESC;FMTTYPE=text/html:Regional study this quarter will center on the 4 main regions of France. What seems overwhelming inthe wine world\, will be broken down into manageable components so you can be at home in the French section at Gibby's! You will taste 4 wines at each class from the corresponding region. Register for all 4 classes for $100 or attend individual sessions for $30 each. The next classes will be held on October 12 (Bordeaux) and October 19 (Burgandy).\n\nReservations are required. We look forward to taking you on this wine tour of France!\n\n
LOCATION:Gibby's WIne Den
UID:e.1902.1019
SEQUENCE:3
DTSTAMP:20260421T011625Z
URL:https://business.bataviachamber.org/events/details/gibby-s-wine-den-gibby-s-university-a-study-of-france-10-05-2009-1019
END:VEVENT

END:VCALENDAR
