BEGIN:VCALENDAR
VERSION:2.0
PRODID:-//ChamberMaster//Event Calendar 2.0//EN
METHOD:PUBLISH
X-PUBLISHED-TTL:P3D
REFRESH-INTERVAL:P3D
CALSCALE:GREGORIAN
BEGIN:VEVENT
DTSTART:20100208T060000Z
DTEND:20100208T060000Z
X-MICROSOFT-CDO-ALLDAYEVENT:FALSE
SUMMARY:Gibby's Wine Den ~ Germany: The Rhineland\, Riesling and Bey
DESCRIPTION:So many regions\, so many styles of Rieslings and do not lose sight of Pinot Noir. Sample the terroiras you wind through this extremely interesting wine country.               \nMonday February 8\,  7pm\n$25/person\nReservations required - 630-208-6424
X-ALT-DESC;FMTTYPE=text/html:So many regions\, so many styles of Rieslings and do not lose sight of Pinot Noir. Sample the terroiras you wind through this extremely interesting wine country.               \nMonday February 8\,  7pm\n$25/person\nReservations required - 630-208-6424\n
LOCATION:Gibby's Wine Den
UID:e.1902.1090
SEQUENCE:3
DTSTAMP:20260420T175804Z
URL:https://business.bataviachamber.org/events/details/gibby-s-wine-den-germany-the-rhineland-riesling-and-bey-02-08-2010-1090
END:VEVENT

END:VCALENDAR
