BEGIN:VCALENDAR
VERSION:2.0
PRODID:-//ChamberMaster//Event Calendar 2.0//EN
METHOD:PUBLISH
X-PUBLISHED-TTL:P3D
REFRESH-INTERVAL:P3D
CALSCALE:GREGORIAN
BEGIN:VEVENT
DTSTART:20091204T060000Z
DTEND:20091205T060000Z
X-MICROSOFT-CDO-ALLDAYEVENT:FALSE
SUMMARY:Gibby's Wine Den ~ Geneva House Tour
DESCRIPTION:Celebration Design at Gibby's has decorated one of these beautiful homes for Geneva's Christmas Walkand House Tour.  We have been hard at work making sure that this specatcular home is decorated fromtop to bottom with the most beautiful and unique holiday decor.  Be sure to stop by Gibby's WIne Den any time for tips and ideas for decking the halls in your home!  The Celebration Design Team can also decorate your home - a grand entryway\, breathtaking banister or amazing mantel to bring in the holiday spirit!  See our work in the Geneva Housewalk or stop by the store anytime to get a glimpse of the sparkle we can add to your holiday events.\n\nSee the Geneva Chamber of Commerce website for more information on the Christmas Walk and House Tour.
X-ALT-DESC;FMTTYPE=text/html:Celebration Design at Gibby's has decorated one of these beautiful homes for Geneva's Christmas Walkand House Tour.  We have been hard at work making sure that this specatcular home is decorated fromtop to bottom with the most beautiful and unique holiday decor.  Be sure to stop by Gibby's WIne Den any time for tips and ideas for decking the halls in your home!  The Celebration Design Team can also decorate your home - a grand entryway\, breathtaking banister or amazing mantel to bring in the holiday spirit!  See our work in the Geneva Housewalk or stop by the store anytime to get a glimpse of the sparkle we can add to your holiday events.\n\nSee the Geneva Chamber of Commerce website for more information on the Christmas Walk and House Tour.\n
LOCATION:Gibby's Wine Den
UID:e.1902.1034
SEQUENCE:3
DTSTAMP:20260420T213327Z
URL:https://business.bataviachamber.org/events/details/gibby-s-wine-den-geneva-house-tour-12-04-2009-1034
END:VEVENT

END:VCALENDAR
