BEGIN:VCALENDAR
VERSION:2.0
PRODID:-//ChamberMaster//Event Calendar 2.0//EN
METHOD:PUBLISH
X-PUBLISHED-TTL:P3D
REFRESH-INTERVAL:P3D
CALSCALE:GREGORIAN
BEGIN:VEVENT
DTSTART:20110519T050000Z
DTEND:20110519T050000Z
X-MICROSOFT-CDO-ALLDAYEVENT:FALSE
SUMMARY:Gibby's Wine Den ~ Fromage & Vino Tasting
DESCRIPTION:Gibby's celebrates the marriage of fine wines and artisan cheeses with this tasting event. Spend theevening exploring a variety of cheese and wine pairings with us. \nReservations required. $35 per person
X-ALT-DESC;FMTTYPE=text/html:Gibby's celebrates the marriage of fine wines and artisan cheeses with this tasting event. Spend theevening exploring a variety of cheese and wine pairings with us. \nReservations required. $35 per person\n\n
LOCATION:Gibby's Wine Den
UID:e.1902.235
SEQUENCE:3
DTSTAMP:20260419T164211Z
URL:https://business.bataviachamber.org/events/details/gibby-s-wine-den-fromage-vino-tasting-05-19-2011-235
END:VEVENT

END:VCALENDAR
