BEGIN:VCALENDAR
VERSION:2.0
PRODID:-//ChamberMaster//Event Calendar 2.0//EN
METHOD:PUBLISH
X-PUBLISHED-TTL:P3D
REFRESH-INTERVAL:P3D
CALSCALE:GREGORIAN
BEGIN:VEVENT
DTSTART:20111209T060000Z
DTEND:20111209T060000Z
X-MICROSOFT-CDO-ALLDAYEVENT:FALSE
SUMMARY:Gibby's Wine Den ~ Fridays@5 & Wine Tasting
DESCRIPTION:Shake off some of that holiday stress tonight at Gibby's!  Try some of our favorite holiday wines tonight at our wine tasting ($5 fee) and listen to live music!  Sip while you shop for everyone on your list - can you think of a better way to do your holiday shopping?
X-ALT-DESC;FMTTYPE=text/html:Shake off some of that holiday stress tonight at Gibby's!  Try some of our favorite holiday wines tonight at our wine tasting ($5 fee) and listen to live music!  Sip while you shop for everyone on your list - can you think of a better way to do your holiday shopping?
LOCATION:Gibby's Wine Den
UID:e.1902.453
SEQUENCE:3
DTSTAMP:20260423T001726Z
URL:https://business.bataviachamber.org/events/details/gibby-s-wine-den-fridays-5-wine-tasting-12-09-2011-453
END:VEVENT

END:VCALENDAR
