BEGIN:VCALENDAR
VERSION:2.0
PRODID:-//ChamberMaster//Event Calendar 2.0//EN
METHOD:PUBLISH
X-PUBLISHED-TTL:P3D
REFRESH-INTERVAL:P3D
CALSCALE:GREGORIAN
BEGIN:VEVENT
DTSTART:20111111T060000Z
DTEND:20111111T060000Z
X-MICROSOFT-CDO-ALLDAYEVENT:FALSE
SUMMARY:Gibby's Wine Den ~ Fridays@5 & Wine Tasting
DESCRIPTION:Get your group together and come to Gibby's tonight for a fabulous evening with live music from "Reiki Troubadour"\, wines by the glass\, holiday gifts and beautiful decorations!  Tonight\, we also continue our Fall Wine Tasting Series with Burgundy wines...perfect for the upcoming hoiday meals!  You can also help give back  because tonight is 'Cause There Is A Need\, where a portion of tonight's sales will be dontated to a very worthy local cause.   so get to Gibby's and have some fun tonight!
X-ALT-DESC;FMTTYPE=text/html:Get your group together and come to Gibby's tonight for a fabulous evening with live music from "Reiki Troubadour"\, wines by the glass\, holiday gifts and beautiful decorations!  Tonight\, we also continue our Fall Wine Tasting Series with Burgundy wines...perfect for the upcoming hoiday meals!  You can also help give back  because tonight is 'Cause There Is A Need\, where a portion of tonight's sales will be dontated to a very worthy local cause.   so get to Gibby's and have some fun tonight!
LOCATION:Gibby's Wine Den
UID:e.1902.433
SEQUENCE:3
DTSTAMP:20260423T020729Z
URL:https://business.bataviachamber.org/events/details/gibby-s-wine-den-fridays-5-wine-tasting-11-11-2011-433
END:VEVENT

END:VCALENDAR
