BEGIN:VCALENDAR
VERSION:2.0
PRODID:-//ChamberMaster//Event Calendar 2.0//EN
METHOD:PUBLISH
X-PUBLISHED-TTL:P3D
REFRESH-INTERVAL:P3D
CALSCALE:GREGORIAN
BEGIN:VEVENT
DTSTART:20111028T050000Z
DTEND:20111028T050000Z
X-MICROSOFT-CDO-ALLDAYEVENT:FALSE
SUMMARY:Gibby's Wine Den ~ Fridays@5 & Wine Tasting
DESCRIPTION:Live entertainment from "Dave's Not Here" will pair perfectly with tonight's wine tasting\, featuringwines from Washington.  Enjoy the tasting\, wines by the glass and nibbles from the Tidbits menu.\nShop the hundreds of wines from around the world\, and enjoy the seasonal decor and accessories.  Get your friends together for a great Friday at Gibby's\, where the fun is always UNCORKED!
X-ALT-DESC;FMTTYPE=text/html:Live entertainment from "Dave's Not Here" will pair perfectly with tonight's wine tasting\, featuringwines from Washington.  Enjoy the tasting\, wines by the glass and nibbles from the Tidbits menu.\nShop the hundreds of wines from around the world\, and enjoy the seasonal decor and accessories.  Get your friends together for a great Friday at Gibby's\, where the fun is always UNCORKED!
LOCATION:Gibby's Wine Den
UID:e.1902.405
SEQUENCE:3
DTSTAMP:20260423T034623Z
URL:https://business.bataviachamber.org/events/details/gibby-s-wine-den-fridays-5-wine-tasting-10-28-2011-405
END:VEVENT

END:VCALENDAR
