BEGIN:VCALENDAR
VERSION:2.0
PRODID:-//ChamberMaster//Event Calendar 2.0//EN
METHOD:PUBLISH
X-PUBLISHED-TTL:P3D
REFRESH-INTERVAL:P3D
CALSCALE:GREGORIAN
BEGIN:VEVENT
DTSTART:20110819T050000Z
DTEND:20110819T050000Z
X-MICROSOFT-CDO-ALLDAYEVENT:FALSE
SUMMARY:Gibby's Wine Den ~ Fridays@5 & Wine Tasting
DESCRIPTION:It's a great Friday at Gibby's! Live music tonight from Denny King is the perfect accompaniment to our "Dog Daze of Summer" wine tasting and "Bacchus Greets The Arts" exhibit of many area artists.
X-ALT-DESC;FMTTYPE=text/html:It's a great Friday at Gibby's! Live music tonight from Denny King is the perfect accompaniment to our "Dog Daze of Summer" wine tasting and "Bacchus Greets The Arts" exhibit of many area artists.
LOCATION:Gibby's Wine Den
UID:e.1902.332
SEQUENCE:3
DTSTAMP:20260423T072848Z
URL:https://business.bataviachamber.org/events/details/gibby-s-wine-den-fridays-5-wine-tasting-08-19-2011-332
END:VEVENT

END:VCALENDAR
