BEGIN:VCALENDAR
VERSION:2.0
PRODID:-//ChamberMaster//Event Calendar 2.0//EN
METHOD:PUBLISH
X-PUBLISHED-TTL:P3D
REFRESH-INTERVAL:P3D
CALSCALE:GREGORIAN
BEGIN:VEVENT
DTSTART:20110805T050000Z
DTEND:20110805T050000Z
X-MICROSOFT-CDO-ALLDAYEVENT:FALSE
SUMMARY:Gibby's Wine Den ~ Fridays@5 & Wine Tasting
DESCRIPTION:Join us for a great Friday with live music from "The Pederson Players".  Take in our August Art By The Glass exhibit and enjoy sampling wines from "South of the Border" as our MidSummer's Night Wine Tasting Seres countinues. (A $2 fee for wine tasting).
X-ALT-DESC;FMTTYPE=text/html:Join us for a great Friday with live music from "The Pederson Players".  Take in our August Art By The Glass exhibit and enjoy sampling wines from "South of the Border" as our MidSummer's Night Wine Tasting Seres countinues. (A $2 fee for wine tasting).
LOCATION:Gibby's Wine Den
UID:e.1902.324
SEQUENCE:3
DTSTAMP:20260423T072847Z
URL:https://business.bataviachamber.org/events/details/gibby-s-wine-den-fridays-5-wine-tasting-08-05-2011-324
END:VEVENT

END:VCALENDAR
