BEGIN:VCALENDAR
VERSION:2.0
PRODID:-//ChamberMaster//Event Calendar 2.0//EN
METHOD:PUBLISH
X-PUBLISHED-TTL:P3D
REFRESH-INTERVAL:P3D
CALSCALE:GREGORIAN
BEGIN:VEVENT
DTSTART:20110722T050000Z
DTEND:20110722T050000Z
X-MICROSOFT-CDO-ALLDAYEVENT:FALSE
SUMMARY:Gibby's Wine Den ~ Fridays@5 & Wine Tasting
DESCRIPTION:Come to GIbby's tonight for a great night!  Live musical entertainment from "Dave's Not Here" and wine tasting\, as our "A Midsummer Night's Dream Wine Tasting Series" continues with Wines From Down Under!  ($2 fee for wine tasting)
X-ALT-DESC;FMTTYPE=text/html:Come to GIbby's tonight for a great night!  Live musical entertainment from "Dave's Not Here" and wine tasting\, as our "A Midsummer Night's Dream Wine Tasting Series" continues with Wines From Down Under!  ($2 fee for wine tasting)
LOCATION:Gibby's Wine Den
UID:e.1902.298
SEQUENCE:3
DTSTAMP:20260423T090541Z
URL:https://business.bataviachamber.org/events/details/gibby-s-wine-den-fridays-5-wine-tasting-07-22-2011-298
END:VEVENT

END:VCALENDAR
