BEGIN:VCALENDAR
VERSION:2.0
PRODID:-//ChamberMaster//Event Calendar 2.0//EN
METHOD:PUBLISH
X-PUBLISHED-TTL:P3D
REFRESH-INTERVAL:P3D
CALSCALE:GREGORIAN
BEGIN:VEVENT
DTSTART:20110624T050000Z
DTEND:20110624T050000Z
X-MICROSOFT-CDO-ALLDAYEVENT:FALSE
SUMMARY:Gibby's Wine Den ~ Fridays@5 & Wine Tasting
DESCRIPTION:Join us for a great Friday night!  James Schlicher will be performing tonight for our "Midsummer Night's Twilight Tasting...It's Amore"\, featuring some delicious wines of Italy.  Enjoy June's art exhibit and wandering through the aisles of wines from around the world!
X-ALT-DESC;FMTTYPE=text/html:Join us for a great Friday night!  James Schlicher will be performing tonight for our "Midsummer Night's Twilight Tasting...It's Amore"\, featuring some delicious wines of Italy.  Enjoy June's art exhibit and wandering through the aisles of wines from around the world!
LOCATION:Gibby's Wine Den
UID:e.1902.271
SEQUENCE:3
DTSTAMP:20260423T105216Z
URL:https://business.bataviachamber.org/events/details/gibby-s-wine-den-fridays-5-wine-tasting-06-24-2011-271
END:VEVENT

END:VCALENDAR
