BEGIN:VCALENDAR
VERSION:2.0
PRODID:-//ChamberMaster//Event Calendar 2.0//EN
METHOD:PUBLISH
X-PUBLISHED-TTL:P3D
REFRESH-INTERVAL:P3D
CALSCALE:GREGORIAN
BEGIN:VEVENT
DTSTART:20110610T050000Z
DTEND:20110610T050000Z
X-MICROSOFT-CDO-ALLDAYEVENT:FALSE
SUMMARY:Gibby's Wine Den ~ Fridays@5 & Wine Tasting
DESCRIPTION:Wow!  What a Friday!  There's so much going on tonight - grab your friends and head to Gibby's for agreat night!  Dan Shanahan will be performing for our "Art By The Glass" June exhibit opening and our "Midsummer Night's Twilight Tasting...The Rhone Rangers".
X-ALT-DESC;FMTTYPE=text/html:Wow!  What a Friday!  There's so much going on tonight - grab your friends and head to Gibby's for agreat night!  Dan Shanahan will be performing for our "Art By The Glass" June exhibit opening and our "Midsummer Night's Twilight Tasting...The Rhone Rangers".
LOCATION:Gibby's Wine Den
UID:e.1902.260
SEQUENCE:3
DTSTAMP:20260423T105019Z
URL:https://business.bataviachamber.org/events/details/gibby-s-wine-den-fridays-5-wine-tasting-06-10-2011-260
END:VEVENT

END:VCALENDAR
