BEGIN:VCALENDAR
VERSION:2.0
PRODID:-//ChamberMaster//Event Calendar 2.0//EN
METHOD:PUBLISH
X-PUBLISHED-TTL:P3D
REFRESH-INTERVAL:P3D
CALSCALE:GREGORIAN
BEGIN:VEVENT
DTSTART:20110527T050000Z
DTEND:20110527T050000Z
X-MICROSOFT-CDO-ALLDAYEVENT:FALSE
SUMMARY:Gibby's Wine Den ~ Fridays@5 & Wine Tasting
DESCRIPTION:Gather with friends around the Wine Bar and enjoy a glass of wine\, Tidbits and the fabulous sounds of James Schlicher. We also continue our Twilight Tasting Series tonight\, where for just $2\, you cantry up to 6 different wines\, chat with the distributor and maybe find a new favorite! Great things are happening at Gibby's!
X-ALT-DESC;FMTTYPE=text/html:Gather with friends around the Wine Bar and enjoy a glass of wine\, Tidbits and the fabulous sounds of James Schlicher. We also continue our Twilight Tasting Series tonight\, where for just $2\, you cantry up to 6 different wines\, chat with the distributor and maybe find a new favorite! Great things are happening at Gibby's!\n\n
LOCATION:Gibby's Wine Den
UID:e.1902.240
SEQUENCE:3
DTSTAMP:20260419T164520Z
URL:https://business.bataviachamber.org/events/details/gibby-s-wine-den-fridays-5-wine-tasting-05-27-2011-240
END:VEVENT

END:VCALENDAR
