BEGIN:VCALENDAR
VERSION:2.0
PRODID:-//ChamberMaster//Event Calendar 2.0//EN
METHOD:PUBLISH
X-PUBLISHED-TTL:P3D
REFRESH-INTERVAL:P3D
CALSCALE:GREGORIAN
BEGIN:VEVENT
DTSTART:20120302T060000Z
DTEND:20120302T060000Z
X-MICROSOFT-CDO-ALLDAYEVENT:FALSE
SUMMARY:Gibby's Wine Den ~ Fridays@5 & Wine Tasting
DESCRIPTION:We have a great night for you tonight!  Tonight's Twilight Tasting features the world of Pinots!  Try Pinots from Oregon\, California\, Germany\, France and New Zealand!  Sip while listening to live music from Hallie Gaitsch and enjoying our new Art By the Glass exhibit. There is a $5 wine tasting fee/ exhibit opening is no charge.
X-ALT-DESC;FMTTYPE=text/html:We have a great night for you tonight!  Tonight's Twilight Tasting features the world of Pinots!  Try Pinots from Oregon\, California\, Germany\, France and New Zealand!  Sip while listening to live music from Hallie Gaitsch and enjoying our new Art By the Glass exhibit. There is a $5 wine tasting fee/ exhibit opening is no charge.
LOCATION:Gibby's Wine Den
UID:e.1902.518
SEQUENCE:3
DTSTAMP:20260422T191637Z
URL:https://business.bataviachamber.org/events/details/gibby-s-wine-den-fridays-5-wine-tasting-03-02-2012-518
END:VEVENT

END:VCALENDAR
