BEGIN:VCALENDAR
VERSION:2.0
PRODID:-//ChamberMaster//Event Calendar 2.0//EN
METHOD:PUBLISH
X-PUBLISHED-TTL:P3D
REFRESH-INTERVAL:P3D
CALSCALE:GREGORIAN
BEGIN:VEVENT
DTSTART:20091211T060000Z
DTEND:20091211T060000Z
X-MICROSOFT-CDO-ALLDAYEVENT:FALSE
SUMMARY:Gibby's Wine Den ~ Fridays@5 & 'Cause There Is A Need
DESCRIPTION:Come to Gibby's tonight and enjoy a relaxing evening with live muscial entertainment\, wines by the glass and tasty treats from out Tidbits menu.  Take a stroll through the aisles to find the perfect wine for your holiday dinners or a unique gift for the ones on your list.  The expert staff at Gibby's is here to make your holidays easy!  Tonight is also "Cause There Is A Need"\, where you can help Gibby's give back to one of the many worthy charities in our community.  A portion of the proceedes from tonight's bar purchases will be donated.
X-ALT-DESC;FMTTYPE=text/html:Come to Gibby's tonight and enjoy a relaxing evening with live muscial entertainment\, wines by the glass and tasty treats from out Tidbits menu.  Take a stroll through the aisles to find the perfect wine for your holiday dinners or a unique gift for the ones on your list.  The expert staff at Gibby's is here to make your holidays easy!  Tonight is also "Cause There Is A Need"\, where you can help Gibby's give back to one of the many worthy charities in our community.  A portion of the proceedes from tonight's bar purchases will be donated. \n
LOCATION:Gibby's Wine Den
UID:e.1902.1037
SEQUENCE:3
DTSTAMP:20260424T174915Z
URL:https://business.bataviachamber.org/events/details/gibby-s-wine-den-fridays-5-cause-there-is-a-need-12-11-2009-1037
END:VEVENT

END:VCALENDAR
