BEGIN:VCALENDAR
VERSION:2.0
PRODID:-//ChamberMaster//Event Calendar 2.0//EN
METHOD:PUBLISH
X-PUBLISHED-TTL:P3D
REFRESH-INTERVAL:P3D
CALSCALE:GREGORIAN
BEGIN:VEVENT
DTSTART:20091113T060000Z
DTEND:20091113T060000Z
X-MICROSOFT-CDO-ALLDAYEVENT:FALSE
SUMMARY:Gibby's Wine Den ~ Fridays@5 & 'Cause There Is A Need
DESCRIPTION:Meet your friends around the bar at Gibby's tonight for a relaxing end to your busy week!  James Schlicher will provide the musical backdrop as you sip wines by the glass and try something new from our Tidbits menu.  Wander through the aisles to find the perfect wine for the upcoming holidays and topick up a hostess gift or two!  It's never too early to start crossing off that "to do" list!  Theexpert staff at Gibby's is here to help make your holidays easy!  And don't forget that tonight is "Cause There Is A Need"\, where you can help Gibby's give back to a very worthy charity in our community.  A portion of tonight's bar purchases will be donated!
X-ALT-DESC;FMTTYPE=text/html:Meet your friends around the bar at Gibby's tonight for a relaxing end to your busy week!  James Schlicher will provide the musical backdrop as you sip wines by the glass and try something new from our Tidbits menu.  Wander through the aisles to find the perfect wine for the upcoming holidays and topick up a hostess gift or two!  It's never too early to start crossing off that "to do" list!  Theexpert staff at Gibby's is here to help make your holidays easy!  And don't forget that tonight is "Cause There Is A Need"\, where you can help Gibby's give back to a very worthy charity in our community.  A portion of tonight's bar purchases will be donated! \n
LOCATION:Gibby's Wine Den
UID:e.1902.1036
SEQUENCE:3
DTSTAMP:20260424T202538Z
URL:https://business.bataviachamber.org/events/details/gibby-s-wine-den-fridays-5-cause-there-is-a-need-11-13-2009-1036
END:VEVENT

END:VCALENDAR
