BEGIN:VCALENDAR
VERSION:2.0
PRODID:-//ChamberMaster//Event Calendar 2.0//EN
METHOD:PUBLISH
X-PUBLISHED-TTL:P3D
REFRESH-INTERVAL:P3D
CALSCALE:GREGORIAN
BEGIN:VEVENT
DTSTART:20111014T050000Z
DTEND:20111014T050000Z
X-MICROSOFT-CDO-ALLDAYEVENT:FALSE
SUMMARY:Gibby's Wine Den ~ Fridays@5 & 'Cause There Is A Need
DESCRIPTION:"Random Acts of Jazz" is our featured performer tonight!  Get your friends together and meet at Gibby's for a great evening!  Tap your toes and dance in your seat while sipping delicious wines by theglass - or pick a bottle to share from the hundreds of wines we offer!  Tonight is also 'Cause ThereIs A Need\, when a portion of tonight's bar proceedes will be given to a local organization in need.It's a great way to spend a Friday night!
X-ALT-DESC;FMTTYPE=text/html:"Random Acts of Jazz" is our featured performer tonight!  Get your friends together and meet at Gibby's for a great evening!  Tap your toes and dance in your seat while sipping delicious wines by theglass - or pick a bottle to share from the hundreds of wines we offer!  Tonight is also 'Cause ThereIs A Need\, when a portion of tonight's bar proceedes will be given to a local organization in need.It's a great way to spend a Friday night!
LOCATION:Gibby's Wine Den
UID:e.1902.399
SEQUENCE:3
DTSTAMP:20260423T034633Z
URL:https://business.bataviachamber.org/events/details/gibby-s-wine-den-fridays-5-cause-there-is-a-need-10-14-2011-399
END:VEVENT

END:VCALENDAR
