BEGIN:VCALENDAR
VERSION:2.0
PRODID:-//ChamberMaster//Event Calendar 2.0//EN
METHOD:PUBLISH
X-PUBLISHED-TTL:P3D
REFRESH-INTERVAL:P3D
CALSCALE:GREGORIAN
BEGIN:VEVENT
DTSTART:20110909T050000Z
DTEND:20110909T050000Z
X-MICROSOFT-CDO-ALLDAYEVENT:FALSE
SUMMARY:Gibby's Wine Den ~ Fridays@5 & 'Cause There Is A Need
DESCRIPTION:Meet your friends at Gibby's tonight for a great night!  Enjoy live music from "Dave's Not Here"\, while sipping wines by the glass and a delicious selection from the "Tidbits" menu.  Tonight is also 'Cause There is a Need"\, where a portion of the evenings bar purchases will be donated to a local organization.  Enjoy a fun Friday at Gibby's\, while giving back to those in need!
X-ALT-DESC;FMTTYPE=text/html:Meet your friends at Gibby's tonight for a great night!  Enjoy live music from "Dave's Not Here"\, while sipping wines by the glass and a delicious selection from the "Tidbits" menu.  Tonight is also 'Cause There is a Need"\, where a portion of the evenings bar purchases will be donated to a local organization.  Enjoy a fun Friday at Gibby's\, while giving back to those in need!
LOCATION:Gibby's Wine Den
UID:e.1902.368
SEQUENCE:3
DTSTAMP:20260423T053748Z
URL:https://business.bataviachamber.org/events/details/gibby-s-wine-den-fridays-5-cause-there-is-a-need-09-09-2011-368
END:VEVENT

END:VCALENDAR
