BEGIN:VCALENDAR
VERSION:2.0
PRODID:-//ChamberMaster//Event Calendar 2.0//EN
METHOD:PUBLISH
X-PUBLISHED-TTL:P3D
REFRESH-INTERVAL:P3D
CALSCALE:GREGORIAN
BEGIN:VEVENT
DTSTART:20110513T050000Z
DTEND:20110513T050000Z
X-MICROSOFT-CDO-ALLDAYEVENT:FALSE
SUMMARY:Gibby's Wine Den ~ Fridays@5 & 'Cause There Is A Need
DESCRIPTION:Gibby's gives back to a local charitable organization by donating a percentage of purchases at our Wine Bar on the second Friday of the month. This year we will be supporting Alex's Army – Relay for Life Team. Enjoy a glass of wine\, a selection from our Tidbits menu and relax to the sounds of RandomActs of Jazz. Great things are happening at Gibby's!
X-ALT-DESC;FMTTYPE=text/html:Gibby's gives back to a local charitable organization by donating a percentage of purchases at our Wine Bar on the second Friday of the month. This year we will be supporting Alex's Army – Relay for Life Team. Enjoy a glass of wine\, a selection from our Tidbits menu and relax to the sounds of RandomActs of Jazz. Great things are happening at Gibby's!\n\n
LOCATION:Gibby's Wine Den
UID:e.1902.232
SEQUENCE:3
DTSTAMP:20260423T122146Z
URL:https://business.bataviachamber.org/events/details/gibby-s-wine-den-fridays-5-cause-there-is-a-need-05-13-2011-232
END:VEVENT

END:VCALENDAR
